BEGIN:VCALENDAR
VERSION:2.0
PRODID:icalendar-ruby
CALSCALE:GREGORIAN
BEGIN:VEVENT
DTSTAMP:20260425T223729Z
UID:68e84870-0464-49ee-bc46-1df558c37c0b
DTSTART:20260518T150000
DTEND:20260518T170000
CLASS:PUBLIC
CREATED:20260420T072316
DESCRIPTION:https://bis.gov.lv/en/calendar/186
LAST-MODIFIED:20260420T072316
SUMMARY:Online seminar "Work-related health problems of the hands\, elbows 
 and shoulders in construction"
END:VEVENT
END:VCALENDAR
