BEGIN:VCALENDAR
VERSION:2.0
PRODID:icalendar-ruby
CALSCALE:GREGORIAN
BEGIN:VEVENT
DTSTAMP:20260422T101640Z
UID:7477fa8e-6c7e-4789-b18d-1cb7f61ba3b1
DTSTART:20260518T150000
DTEND:20260518T170000
CLASS:PUBLIC
CREATED:20260420T072316
DESCRIPTION:https://bis.gov.lv/lv/calendar/186
LAST-MODIFIED:20260420T072316
SUMMARY:Tiešsaistes seminārs "Ar roku\, elkoņu un plecu pārslodzi saist
 ītās veselības problēmas būvniecībā"
END:VEVENT
END:VCALENDAR
